BEGIN:VCALENDAR
VERSION:2.0
PRODID:-//Squarespace Inc/Squarespace 6//v6//EN
BEGIN:VEVENT
UID:5bceddf571c10b8fc62a16ed@squarespace.com
DTSTAMP:20181023T083841Z
DTSTART:20181027T130000Z
DTEND:20181027T140000Z
SUMMARY:Gallery Open Days
END:VEVENT
END:VCALENDAR
