BEGIN:VCALENDAR
VERSION:2.0
PRODID:-//Squarespace Inc/Squarespace 6//v6//EN
BEGIN:VEVENT
UID:5b978786cd8366c14a4ccc02@squarespace.com
DTSTAMP:20181001T184657Z
DTSTART:20181026T220000Z
DTEND:20181027T010000Z
SUMMARY:Things That Go Bump In The Night 
END:VEVENT
END:VCALENDAR
