BEGIN:VCALENDAR
VERSION:2.0
PRODID:-//Squarespace Inc/Squarespace 6//v6//EN
BEGIN:VEVENT
UID:5bcede2f8165f5dee7235772@squarespace.com
DTSTAMP:20181023T083917Z
DTSTART:20181017T130000Z
DTEND:20181017T140000Z
SUMMARY:Courtenay Creative Launch
END:VEVENT
END:VCALENDAR
